BEGIN:VCALENDAR
VERSION:2.0
PRODID:-//wp-events-plugin.com//7.2.3.1//EN
TZID:Europe/Berlin
X-WR-TIMEZONE:Europe/Berlin
BEGIN:VEVENT
UID:412@haki-sh.de
DTSTART;TZID=Europe/Berlin:20251211T180000
DTEND;TZID=Europe/Berlin:20251211T200000
DTSTAMP:20251120T095745Z
URL:https://haki-sh.de/events/csd-kiel-2025-12-11/
SUMMARY:CSD Kiel
DESCRIPTION:Hier findest du mehr Informationen zur Gruppe.
ATTACH;FMTTYPE=image/jpeg:https://haki-sh.de/wp-content/uploads/2024/09/cs
 dkiel.png
CATEGORIES:Gastgruppe
END:VEVENT
BEGIN:VTIMEZONE
TZID:Europe/Berlin
X-LIC-LOCATION:Europe/Berlin
BEGIN:STANDARD
DTSTART:20251026T020000
TZOFFSETFROM:+0200
TZOFFSETTO:+0100
TZNAME:CET
END:STANDARD
END:VTIMEZONE
END:VCALENDAR