BEGIN:VCALENDAR
VERSION:2.0
PRODID:-//wp-events-plugin.com//7.2.3.1//EN
TZID:Europe/Berlin
X-WR-TIMEZONE:Europe/Berlin
BEGIN:VEVENT
UID:1352@haki-sh.de
DTSTART;TZID=Europe/Berlin:20261112T180000
DTEND;TZID=Europe/Berlin:20261112T200000
DTSTAMP:20251120T095745Z
URL:https://haki-sh.de/events/csd-kiel-2026-01-08-2026-02-12-2026-03-12-20
 26-04-09-2026-05-14-2026-06-11-2026-07-09-2026-08-13-2026-09-10-2026-10-08
 -2026-11-12/
SUMMARY:CSD Kiel
DESCRIPTION:Hier findest du mehr Informationen zur Gruppe.
ATTACH;FMTTYPE=image/jpeg:https://haki-sh.de/wp-content/uploads/2024/09/cs
 dkiel.png
CATEGORIES:Gastgruppe
END:VEVENT
BEGIN:VTIMEZONE
TZID:Europe/Berlin
X-LIC-LOCATION:Europe/Berlin
BEGIN:STANDARD
DTSTART:20261025T020000
TZOFFSETFROM:+0200
TZOFFSETTO:+0100
TZNAME:CET
END:STANDARD
END:VTIMEZONE
END:VCALENDAR