BEGIN:VCALENDAR
VERSION:2.0
PRODID:-//wp-events-plugin.com//7.2.3.1//EN
TZID:Europe/Berlin
X-WR-TIMEZONE:Europe/Berlin
BEGIN:VEVENT
UID:1413@haki-sh.de
DTSTART;TZID=Europe/Berlin:20261109T190000
DTEND;TZID=Europe/Berlin:20261109T210000
DTSTAMP:20251120T095930Z
URL:https://haki-sh.de/events/enbees-2-2026-01-12-2026-02-09-2026-03-09-20
 26-04-13-2026-05-11-2026-06-08-2026-07-13-2026-08-10-2026-09-14-2026-10-12
 -2026-11-09/
SUMMARY:EnBees
DESCRIPTION:Hier findest du mehr Informationen zur Gruppe.
ATTACH;FMTTYPE=image/jpeg:https://haki-sh.de/wp-content/uploads/2025/06/en
 bees_24-04-06-enbee-Logo-bee-only_RGB_72dpi-A©-scriptmar.jpg
CATEGORIES:Gruppe
END:VEVENT
BEGIN:VTIMEZONE
TZID:Europe/Berlin
X-LIC-LOCATION:Europe/Berlin
BEGIN:STANDARD
DTSTART:20261025T020000
TZOFFSETFROM:+0200
TZOFFSETTO:+0100
TZNAME:CET
END:STANDARD
END:VTIMEZONE
END:VCALENDAR