BEGIN:VCALENDAR
VERSION:2.0
PRODID:-//wp-events-plugin.com//7.2.3.1//EN
TZID:Europe/Berlin
X-WR-TIMEZONE:Europe/Berlin
BEGIN:VEVENT
UID:1534@haki-sh.de
DTSTART;TZID=Europe/Berlin:20261228T190000
DTEND;TZID=Europe/Berlin:20261228T210000
DTSTAMP:20251120T101331Z
URL:https://haki-sh.de/events/enbees-2026-01-26-2026-02-23-2026-03-23-2026
 -04-27-2026-05-25-2026-06-22-2026-07-27-2026-08-24-2026-09-28-2026-10-26-2
 026-11-23-2026-12-28/
SUMMARY:EnBees
DESCRIPTION:\n\n\nHier findest du mehr Informationen zur Gruppe.\n\n\n
ATTACH;FMTTYPE=image/jpeg:https://haki-sh.de/wp-content/uploads/2025/06/en
 bees_24-04-06-enbee-Logo-bee-only_RGB_72dpi-A©-scriptmar.jpg
CATEGORIES:Gruppe
END:VEVENT
BEGIN:VTIMEZONE
TZID:Europe/Berlin
X-LIC-LOCATION:Europe/Berlin
BEGIN:STANDARD
DTSTART:20261025T020000
TZOFFSETFROM:+0200
TZOFFSETTO:+0100
TZNAME:CET
END:STANDARD
END:VTIMEZONE
END:VCALENDAR