BEGIN:VCALENDAR
VERSION:2.0
PRODID:-//wp-events-plugin.com//7.2.3.1//EN
TZID:Europe/Berlin
X-WR-TIMEZONE:Europe/Berlin
BEGIN:VEVENT
UID:1@haki-sh.de
DTSTART;TZID=Europe/Berlin:20231125T160000
DTEND;TZID=Europe/Berlin:20231125T160000
DTSTAMP:20231007T081824Z
URL:https://haki-sh.de/events/haki-veranstaltung/
SUMMARY:HAKI-Veranstaltung
DESCRIPTION:
ATTACH;FMTTYPE=image/jpeg:https://haki-sh.de/wp-content/uploads/2023/09/HA
 KI-Seminarraum-scaled-1.jpg
LOCATION:#_LOCATIONNAME\, #_LOCATIONFULLLINE\, #_LOCATIONCOUNTRY
GEO:54.319015;10.129608
X-APPLE-STRUCTURED-LOCATION;VALUE=URI;X-ADDRESS=#_LOCATIONFULLLINE\, #_LOCA
 TIONCOUNTRY;X-APPLE-RADIUS=100;X-TITLE=#_LOCATIONNAME:geo:54.319015,10.129
 608
END:VEVENT
BEGIN:VTIMEZONE
TZID:Europe/Berlin
X-LIC-LOCATION:Europe/Berlin
BEGIN:STANDARD
DTSTART:20231029T020000
TZOFFSETFROM:+0200
TZOFFSETTO:+0100
TZNAME:CET
END:STANDARD
END:VTIMEZONE
END:VCALENDAR