BEGIN:VCALENDAR
VERSION:2.0
PRODID:-//wp-events-plugin.com//7.2.3.1//EN
TZID:Europe/Berlin
X-WR-TIMEZONE:Europe/Berlin
BEGIN:VEVENT
UID:1395@haki-sh.de
DTSTART;TZID=Europe/Berlin:20260510T180000
DTEND;TZID=Europe/Berlin:20260510T220000
DTSTAMP:20251120T095838Z
URL:https://haki-sh.de/events/hakino-queer-kino-club-2025-09-14-2026-01-11
 -2026-02-08-2026-03-08-2026-04-12-2026-05-10/
SUMMARY:HAKINO – queer kino club
DESCRIPTION:\n\nHier findest du mehr Informationen zu der Gruppe.\n\n
ATTACH;FMTTYPE=image/jpeg:https://haki-sh.de/wp-content/uploads/2025/06/HA
 KINO_25-Logo-©-scriptmar_RGB_web_300dpi.png
CATEGORIES:Gruppe
END:VEVENT
BEGIN:VTIMEZONE
TZID:Europe/Berlin
X-LIC-LOCATION:Europe/Berlin
BEGIN:DAYLIGHT
DTSTART:20260329T030000
TZOFFSETFROM:+0100
TZOFFSETTO:+0200
TZNAME:CEST
END:DAYLIGHT
END:VTIMEZONE
END:VCALENDAR