BEGIN:VCALENDAR
VERSION:2.0
PRODID:-//wp-events-plugin.com//7.2.3.1//EN
TZID:Europe/Berlin
X-WR-TIMEZONE:Europe/Berlin
BEGIN:VEVENT
UID:1578@haki-sh.de
DTSTART;TZID=Europe/Berlin:20260124T131500
DTEND;TZID=Europe/Berlin:20260124T150000
DTSTAMP:20251124T135738Z
URL:https://haki-sh.de/events/inter-treff/
SUMMARY:Inter*-Treff
DESCRIPTION:Hier findest du mehr Informationen.
ATTACH;FMTTYPE=image/jpeg:https://haki-sh.de/wp-content/uploads/2025/11/in
 ter-treff-2.png
CATEGORIES:Gastgruppe
END:VEVENT
BEGIN:VTIMEZONE
TZID:Europe/Berlin
X-LIC-LOCATION:Europe/Berlin
BEGIN:STANDARD
DTSTART:20251026T020000
TZOFFSETFROM:+0200
TZOFFSETTO:+0100
TZNAME:CET
END:STANDARD
END:VTIMEZONE
END:VCALENDAR