BEGIN:VCALENDAR
VERSION:2.0
PRODID:-//wp-events-plugin.com//7.2.3.1//EN
TZID:Europe/Berlin
X-WR-TIMEZONE:Europe/Berlin
BEGIN:VEVENT
UID:395@haki-sh.de
DTSTART;TZID=Europe/Berlin:20251101T143000
DTEND;TZID=Europe/Berlin:20251101T170000
DTSTAMP:20251120T095606Z
URL:https://haki-sh.de/events/kreativtreff-in-der-haki-2025-11-01/
SUMMARY:Kreativtreff in der HAKI
DESCRIPTION:Hier findest du mehr Informationen zu der Gruppe.
ATTACH;FMTTYPE=image/jpeg:https://haki-sh.de/wp-content/uploads/2025/06/Kr
 eativtreff.png
CATEGORIES:Gruppe
END:VEVENT
BEGIN:VTIMEZONE
TZID:Europe/Berlin
X-LIC-LOCATION:Europe/Berlin
BEGIN:STANDARD
DTSTART:20251026T020000
TZOFFSETFROM:+0200
TZOFFSETTO:+0100
TZNAME:CET
END:STANDARD
END:VTIMEZONE
END:VCALENDAR