BEGIN:VCALENDAR
VERSION:2.0
PRODID:-//wp-events-plugin.com//7.2.3.1//EN
TZID:Europe/Berlin
X-WR-TIMEZONE:Europe/Berlin
BEGIN:VEVENT
UID:1216@haki-sh.de
DTSTART;TZID=Europe/Berlin:20261107T143000
DTEND;TZID=Europe/Berlin:20261107T170000
DTSTAMP:20251120T095606Z
URL:https://haki-sh.de/events/kreativtreff-in-der-haki-2026-01-03-2026-02-
 07-2026-03-07-2026-04-04-2026-05-02-2026-06-06-2026-07-04-2026-08-01-2026-
 09-05-2026-10-03-2026-11-07/
SUMMARY:Kreativtreff in der HAKI
DESCRIPTION:Hier findest du mehr Informationen zu der Gruppe.
ATTACH;FMTTYPE=image/jpeg:https://haki-sh.de/wp-content/uploads/2025/06/Kr
 eativtreff.png
CATEGORIES:Gruppe
END:VEVENT
BEGIN:VTIMEZONE
TZID:Europe/Berlin
X-LIC-LOCATION:Europe/Berlin
BEGIN:STANDARD
DTSTART:20261025T020000
TZOFFSETFROM:+0200
TZOFFSETTO:+0100
TZNAME:CET
END:STANDARD
END:VTIMEZONE
END:VCALENDAR