BEGIN:VCALENDAR
VERSION:2.0
PRODID:-//wp-events-plugin.com//7.2.3.1//EN
TZID:Europe/Berlin
X-WR-TIMEZONE:Europe/Berlin
BEGIN:VEVENT
UID:1496@haki-sh.de
DTSTART;TZID=Europe/Berlin:20261022T190000
DTEND;TZID=Europe/Berlin:20261022T203000
DTSTAMP:20251120T101243Z
URL:https://haki-sh.de/events/lindy-hop-ag-2-2026-01-22-2026-02-26-2026-03
 -26-2026-04-23-2026-05-28-2026-06-25-2026-07-23-2026-08-27-2026-09-24-2026
 -10-22/
SUMMARY:Lindy Hop AG
DESCRIPTION:\n\n\nHier findest du mehr Informationen zur Gruppe.\n\n\n
ATTACH;FMTTYPE=image/jpeg:https://haki-sh.de/wp-content/uploads/2024/10/li
 ndyhop.jpg
CATEGORIES:Gruppe
END:VEVENT
BEGIN:VTIMEZONE
TZID:Europe/Berlin
X-LIC-LOCATION:Europe/Berlin
BEGIN:DAYLIGHT
DTSTART:20260329T030000
TZOFFSETFROM:+0100
TZOFFSETTO:+0200
TZNAME:CEST
END:DAYLIGHT
END:VTIMEZONE
END:VCALENDAR