BEGIN:VCALENDAR
VERSION:2.0
PRODID:-//wp-events-plugin.com//7.2.3.1//EN
TZID:Europe/Berlin
X-WR-TIMEZONE:Europe/Berlin
BEGIN:VEVENT
UID:1361@haki-sh.de
DTSTART;TZID=Europe/Berlin:20260813T190000
DTEND;TZID=Europe/Berlin:20260813T203000
DTSTAMP:20251120T095801Z
URL:https://haki-sh.de/events/lindy-hop-ag-2026-01-08-2026-02-12-2026-03-1
 2-2026-04-09-2026-05-14-2026-06-11-2026-07-09-2026-08-13/
SUMMARY:Lindy Hop AG
DESCRIPTION:Hier findest du mehr Informationen zur Gruppe.
ATTACH;FMTTYPE=image/jpeg:https://haki-sh.de/wp-content/uploads/2024/10/li
 ndyhop.jpg
CATEGORIES:Gruppe
END:VEVENT
BEGIN:VTIMEZONE
TZID:Europe/Berlin
X-LIC-LOCATION:Europe/Berlin
BEGIN:DAYLIGHT
DTSTART:20260329T030000
TZOFFSETFROM:+0100
TZOFFSETTO:+0200
TZNAME:CEST
END:DAYLIGHT
END:VTIMEZONE
END:VCALENDAR