BEGIN:VCALENDAR
VERSION:2.0
PRODID:-//wp-events-plugin.com//7.2.3.1//EN
TZID:Europe/Berlin
X-WR-TIMEZONE:Europe/Berlin
BEGIN:VEVENT
UID:1445@haki-sh.de
DTSTART;TZID=Europe/Berlin:20260719T170000
DTEND;TZID=Europe/Berlin:20260719T190000
DTSTAMP:20251120T100106Z
URL:https://haki-sh.de/events/qsg-treffen-2-2026-01-18-2026-02-15-2026-03-
 15-2026-04-19-2026-05-17-2026-06-21-2026-07-19/
SUMMARY:qsg-Treffen
DESCRIPTION:\n\nHier findest du mehr Informationen zur Gruppe.\n\n
ATTACH;FMTTYPE=image/jpeg:https://haki-sh.de/wp-content/uploads/2024/08/qs
 g.png
CATEGORIES:Gruppe
END:VEVENT
BEGIN:VTIMEZONE
TZID:Europe/Berlin
X-LIC-LOCATION:Europe/Berlin
BEGIN:DAYLIGHT
DTSTART:20260329T030000
TZOFFSETFROM:+0100
TZOFFSETTO:+0200
TZNAME:CEST
END:DAYLIGHT
END:VTIMEZONE
END:VCALENDAR