BEGIN:VCALENDAR
VERSION:2.0
PRODID:-//wp-events-plugin.com//7.2.3.1//EN
TZID:Europe/Berlin
X-WR-TIMEZONE:Europe/Berlin
BEGIN:VEVENT
UID:1251@haki-sh.de
DTSTART;TZID=Europe/Berlin:20261004T170000
DTEND;TZID=Europe/Berlin:20261004T190000
DTSTAMP:20251120T095642Z
URL:https://haki-sh.de/events/qsg-treffen-2026-01-04-2026-02-01-2026-03-01
 -2026-04-05-2026-05-03-2026-06-07-2026-07-05-2026-08-02-2026-09-06-2026-10
 -04/
SUMMARY:QSG-Treffen
DESCRIPTION:Hier findest du mehr Informationen zu der Gruppe.
ATTACH;FMTTYPE=image/jpeg:https://haki-sh.de/wp-content/uploads/2024/08/qs
 g.png
CATEGORIES:Gruppe
END:VEVENT
BEGIN:VTIMEZONE
TZID:Europe/Berlin
X-LIC-LOCATION:Europe/Berlin
BEGIN:DAYLIGHT
DTSTART:20260329T030000
TZOFFSETFROM:+0100
TZOFFSETTO:+0200
TZNAME:CEST
END:DAYLIGHT
END:VTIMEZONE
END:VCALENDAR