BEGIN:VCALENDAR
VERSION:2.0
PRODID:-//wp-events-plugin.com//7.2.3.1//EN
TZID:Europe/Berlin
X-WR-TIMEZONE:Europe/Berlin
BEGIN:VEVENT
UID:1538@haki-sh.de
DTSTART;TZID=Europe/Berlin:20261129T170000
DTEND;TZID=Europe/Berlin:20261129T190000
DTSTAMP:20251120T101347Z
URL:https://haki-sh.de/events/qsg-treffen-3-2026-03-29-2026-05-31-2026-08-
 30-2026-11-29/
SUMMARY:qsg-Treffen
DESCRIPTION:Hier findest du mehr Informationen zur Gruppe.
ATTACH;FMTTYPE=image/jpeg:https://haki-sh.de/wp-content/uploads/2024/08/qs
 g.png
CATEGORIES:Gruppe
END:VEVENT
BEGIN:VTIMEZONE
TZID:Europe/Berlin
X-LIC-LOCATION:Europe/Berlin
BEGIN:STANDARD
DTSTART:20261025T020000
TZOFFSETFROM:+0200
TZOFFSETTO:+0100
TZNAME:CET
END:STANDARD
END:VTIMEZONE
END:VCALENDAR