BEGIN:VCALENDAR
VERSION:2.0
PRODID:-//wp-events-plugin.com//7.2.3.1//EN
TZID:Europe/Berlin
X-WR-TIMEZONE:Europe/Berlin
BEGIN:VEVENT
UID:236@haki-sh.de
DTSTART;TZID=Europe/Berlin:20250214T180000
DTEND;TZID=Europe/Berlin:20250214T220000
DTSTAMP:20251120T095815Z
URL:https://haki-sh.de/events/queerer-spieleabend-2025-02-14/
SUMMARY:Queerer Spieleabend
DESCRIPTION:Hier findest du mehr Informationen zur Gruppe.
CATEGORIES:Gastgruppe
END:VEVENT
BEGIN:VTIMEZONE
TZID:Europe/Berlin
X-LIC-LOCATION:Europe/Berlin
BEGIN:STANDARD
DTSTART:20241027T020000
TZOFFSETFROM:+0200
TZOFFSETTO:+0100
TZNAME:CET
END:STANDARD
END:VTIMEZONE
END:VCALENDAR