BEGIN:VCALENDAR
VERSION:2.0
PRODID:-//wp-events-plugin.com//7.2.3.1//EN
TZID:Europe/Berlin
X-WR-TIMEZONE:Europe/Berlin
BEGIN:VEVENT
UID:1377@haki-sh.de
DTSTART;TZID=Europe/Berlin:20261211T180000
DTEND;TZID=Europe/Berlin:20261211T220000
DTSTAMP:20251120T095815Z
URL:https://haki-sh.de/events/queerer-spieleabend-2026-01-09-2026-02-13-20
 26-03-13-2026-04-10-2026-05-08-2026-06-12-2026-07-10-2026-08-14-2026-09-11
 -2026-10-09-2026-11-13-2026-12-11/
SUMMARY:Queerer Spieleabend
DESCRIPTION:Hier findest du mehr Informationen zur Gruppe.
CATEGORIES:Gastgruppe
END:VEVENT
BEGIN:VTIMEZONE
TZID:Europe/Berlin
X-LIC-LOCATION:Europe/Berlin
BEGIN:STANDARD
DTSTART:20261025T020000
TZOFFSETFROM:+0200
TZOFFSETTO:+0100
TZNAME:CET
END:STANDARD
END:VTIMEZONE
END:VCALENDAR