BEGIN:VCALENDAR
VERSION:2.0
PRODID:-//wp-events-plugin.com//7.2.3.1//EN
TZID:Europe/Berlin
X-WR-TIMEZONE:Europe/Berlin
BEGIN:VEVENT
UID:1561@haki-sh.de
DTSTART;TZID=Europe/Berlin:20250809T110000
DTEND;TZID=Europe/Berlin:20250809T130000
DTSTAMP:20251120T110742Z
URL:https://haki-sh.de/events/regenbogen-familien-treffen-2024-10-12-2024-
 11-09-2024-12-14-2025-01-11-2025-02-08-2025-03-08-2025-04-12-2025-05-10-20
 25-06-14-2025-07-12-2025-08-09/
SUMMARY:Regenbogen-Familien-Treffen
DESCRIPTION:Hier findest du mehr Informationen zu der Gruppe.
ATTACH;FMTTYPE=image/jpeg:https://haki-sh.de/wp-content/uploads/2024/08/sp
 _FamilienCafe_fb-e1601893530992.jpg
CATEGORIES:Gruppe
END:VEVENT
BEGIN:VTIMEZONE
TZID:Europe/Berlin
X-LIC-LOCATION:Europe/Berlin
BEGIN:DAYLIGHT
DTSTART:20250330T030000
TZOFFSETFROM:+0100
TZOFFSETTO:+0200
TZNAME:CEST
END:DAYLIGHT
END:VTIMEZONE
END:VCALENDAR