BEGIN:VCALENDAR
VERSION:2.0
PRODID:-//wp-events-plugin.com//7.2.3.1//EN
TZID:Europe/Berlin
X-WR-TIMEZONE:Europe/Berlin
BEGIN:VEVENT
UID:1389@haki-sh.de
DTSTART;TZID=Europe/Berlin:20261212T150000
DTEND;TZID=Europe/Berlin:20261212T180000
DTSTAMP:20251120T095826Z
URL:https://haki-sh.de/events/reife-fruechte-3-2026-01-10-2026-02-14-2026-
 03-14-2026-04-11-2026-05-09-2026-06-13-2026-07-11-2026-08-08-2026-09-12-20
 26-10-10-2026-11-14-2026-12-12/
SUMMARY:Reife Früchte
DESCRIPTION:\n\nHier findest du mehr Informationen zur Gruppe.\n\n
ATTACH;FMTTYPE=image/jpeg:https://haki-sh.de/wp-content/uploads/2024/08/re
 ife_fruechte_final-300x56-1-e1750780430875.png
CATEGORIES:Gruppe
END:VEVENT
BEGIN:VTIMEZONE
TZID:Europe/Berlin
X-LIC-LOCATION:Europe/Berlin
BEGIN:STANDARD
DTSTART:20261025T020000
TZOFFSETFROM:+0200
TZOFFSETTO:+0100
TZNAME:CET
END:STANDARD
END:VTIMEZONE
END:VCALENDAR