BEGIN:VCALENDAR
VERSION:2.0
PRODID:-//wp-events-plugin.com//7.2.3.1//EN
TZID:Europe/Berlin
X-WR-TIMEZONE:Europe/Berlin
BEGIN:VEVENT
UID:1461@haki-sh.de
DTSTART;TZID=Europe/Berlin:20261116T180000
DTEND;TZID=Europe/Berlin:20261116T200000
DTSTAMP:20251120T100122Z
URL:https://haki-sh.de/events/schlau-2-2026-01-19-2026-02-16-2026-03-16-20
 26-04-20-2026-05-18-2026-06-15-2026-07-20-2026-08-17-2026-09-21-2026-10-19
 -2026-11-16/
SUMMARY:SCHLAU-Kiel
DESCRIPTION:Hier findest du mehr Informationen zu der Gruppe.
ATTACH;FMTTYPE=image/jpeg:https://haki-sh.de/wp-content/uploads/2024/09/sc
 hlau-netzwerk.png
CATEGORIES:Projekt
END:VEVENT
BEGIN:VTIMEZONE
TZID:Europe/Berlin
X-LIC-LOCATION:Europe/Berlin
BEGIN:STANDARD
DTSTART:20261025T020000
TZOFFSETFROM:+0200
TZOFFSETTO:+0100
TZNAME:CET
END:STANDARD
END:VTIMEZONE
END:VCALENDAR