BEGIN:VCALENDAR
VERSION:2.0
PRODID:-//wp-events-plugin.com//7.2.3.1//EN
TZID:Europe/Berlin
X-WR-TIMEZONE:Europe/Berlin
BEGIN:VEVENT
UID:353@haki-sh.de
DTSTART;TZID=Europe/Berlin:20250122T183000
DTEND;TZID=Europe/Berlin:20250122T193000
DTSTAMP:20251120T101212Z
URL:https://haki-sh.de/events/tin-jugend-2-2025-01-22/
SUMMARY:tin*-Selbsthilfegruppe (U27)
DESCRIPTION:\n\n\nHier findest du mehr Informationen zur Gruppe.\n\n\n
ATTACH;FMTTYPE=image/jpeg:https://haki-sh.de/wp-content/uploads/2024/08/TI
 N-Gruppe-U27-300x300-1.png
CATEGORIES:Gruppe
END:VEVENT
BEGIN:VTIMEZONE
TZID:Europe/Berlin
X-LIC-LOCATION:Europe/Berlin
BEGIN:STANDARD
DTSTART:20241027T020000
TZOFFSETFROM:+0200
TZOFFSETTO:+0100
TZNAME:CET
END:STANDARD
END:VTIMEZONE
END:VCALENDAR