BEGIN:VCALENDAR
VERSION:2.0
PRODID:-//wp-events-plugin.com//7.2.3.1//EN
TZID:Europe/Berlin
X-WR-TIMEZONE:Europe/Berlin
BEGIN:VEVENT
UID:1127@haki-sh.de
DTSTART;TZID=Europe/Berlin:20261202T183000
DTEND;TZID=Europe/Berlin:20261202T203000
DTSTAMP:20251120T095315Z
URL:https://haki-sh.de/events/trans-selbsthilfegruppe-2026-01-07-2026-02-0
 4-2026-03-04-2026-04-01-2026-05-06-2026-06-03-2026-07-01-2026-08-05-2026-0
 9-02-2026-10-07-2026-11-04-2026-12-02/
SUMMARY:Trans* Selbsthilfegruppe
DESCRIPTION:\n\nHier findest du mehr Informationen zu der Gruppe.\n\n
CATEGORIES:Gruppe
END:VEVENT
BEGIN:VTIMEZONE
TZID:Europe/Berlin
X-LIC-LOCATION:Europe/Berlin
BEGIN:STANDARD
DTSTART:20261025T020000
TZOFFSETFROM:+0200
TZOFFSETTO:+0100
TZNAME:CET
END:STANDARD
END:VTIMEZONE
END:VCALENDAR