BEGIN:VCALENDAR
VERSION:2.0
PRODID:-//wp-events-plugin.com//7.2.3.1//EN
TZID:Europe/Berlin
X-WR-TIMEZONE:Europe/Berlin
BEGIN:VEVENT
UID:1123@haki-sh.de
DTSTART;TZID=Europe/Berlin:20260805T183000
DTEND;TZID=Europe/Berlin:20260805T203000
DTSTAMP:20251120T095315Z
URL:https://haki-sh.de/events/trans-selbsthilfegruppe-2026-01-07-2026-02-0
 4-2026-03-04-2026-04-01-2026-05-06-2026-06-03-2026-07-01-2026-08-05/
SUMMARY:Trans* Selbsthilfegruppe
DESCRIPTION:\n\nHier findest du mehr Informationen zu der Gruppe.\n\n
CATEGORIES:Gruppe
END:VEVENT
BEGIN:VTIMEZONE
TZID:Europe/Berlin
X-LIC-LOCATION:Europe/Berlin
BEGIN:DAYLIGHT
DTSTART:20260329T030000
TZOFFSETFROM:+0100
TZOFFSETTO:+0200
TZNAME:CEST
END:DAYLIGHT
END:VTIMEZONE
END:VCALENDAR